BEGIN:VCALENDAR
VERSION:2.0
PRODID:-//GOT PLANZ - ECPv6.5.1.6//NONSGML v1.0//EN
CALSCALE:GREGORIAN
METHOD:PUBLISH
X-WR-CALNAME:GOT PLANZ
X-ORIGINAL-URL:https://got-planz.website
X-WR-CALDESC:Events for GOT PLANZ
REFRESH-INTERVAL;VALUE=DURATION:PT1H
X-Robots-Tag:noindex
X-PUBLISHED-TTL:PT1H
BEGIN:VTIMEZONE
TZID:UTC
BEGIN:STANDARD
TZOFFSETFROM:+0000
TZOFFSETTO:+0000
TZNAME:UTC
DTSTART:20240101T000000
END:STANDARD
END:VTIMEZONE
BEGIN:VEVENT
DTSTART;TZID=UTC:20240430T080000
DTEND;TZID=UTC:20240430T170000
DTSTAMP:20260421T224427
CREATED:20240409T153602Z
LAST-MODIFIED:20240409T193003Z
UID:10000046-1714464000-1714496400@got-planz.website
SUMMARY:Happy hour
DESCRIPTION:Sorry\, but you do not have permission to view this content.
URL:https://got-planz.website/event/happy-hour/
LOCATION:The Irish Whisper\, 177 Fleet St\, Oxon Hill\, MD\, 20745\, United States
CATEGORIES:Bars and Restaurants
END:VEVENT
END:VCALENDAR