BEGIN:VCALENDAR
VERSION:2.0
PRODID:-//GOT PLANZ - ECPv6.5.1.6//NONSGML v1.0//EN
CALSCALE:GREGORIAN
METHOD:PUBLISH
X-WR-CALNAME:GOT PLANZ
X-ORIGINAL-URL:https://got-planz.website
X-WR-CALDESC:Events for GOT PLANZ
REFRESH-INTERVAL;VALUE=DURATION:PT1H
X-Robots-Tag:noindex
X-PUBLISHED-TTL:PT1H
BEGIN:VTIMEZONE
TZID:UTC
BEGIN:STANDARD
TZOFFSETFROM:+0000
TZOFFSETTO:+0000
TZNAME:UTC
DTSTART:20240101T000000
END:STANDARD
END:VTIMEZONE
BEGIN:VEVENT
DTSTART;TZID=UTC:20240501T183000
DTEND;TZID=UTC:20240501T213000
DTSTAMP:20260422T013505
CREATED:20240418T173918Z
LAST-MODIFIED:20240418T180302Z
UID:10000066-1714588200-1714599000@got-planz.website
SUMMARY:trivia
DESCRIPTION:Sorry\, but you do not have permission to view this content.
URL:https://got-planz.website/event/trivia/
LOCATION:Ono Brewery\, 4520 Daly Dr #102\, Chantilly\, VA\, 20151\, United States
CATEGORIES:Bars and Restaurants
END:VEVENT
END:VCALENDAR