BEGIN:VCALENDAR
VERSION:2.0
PRODID:-//GOT PLANZ - ECPv6.5.1.6//NONSGML v1.0//EN
CALSCALE:GREGORIAN
METHOD:PUBLISH
X-WR-CALNAME:GOT PLANZ
X-ORIGINAL-URL:https://got-planz.website
X-WR-CALDESC:Events for GOT PLANZ
REFRESH-INTERVAL;VALUE=DURATION:PT1H
X-Robots-Tag:noindex
X-PUBLISHED-TTL:PT1H
BEGIN:VTIMEZONE
TZID:UTC
BEGIN:STANDARD
TZOFFSETFROM:+0000
TZOFFSETTO:+0000
TZNAME:UTC
DTSTART:20240101T000000
END:STANDARD
END:VTIMEZONE
BEGIN:VEVENT
DTSTART;TZID=UTC:20240505T090000
DTEND;TZID=UTC:20240512T140000
DTSTAMP:20260422T013546
CREATED:20240429T112619Z
LAST-MODIFIED:20240429T112619Z
UID:10000067-1714899600-1715522400@got-planz.website
SUMMARY:Summer Camp
DESCRIPTION:Sorry\, but you do not have permission to view this content.
URL:https://got-planz.website/event/summer-camp/
LOCATION:Outta The Way Cafe\, 17503 Redland Rd\, Derwood\, MD\, 20855\, United States
CATEGORIES:Holidays
END:VEVENT
BEGIN:VEVENT
DTSTART;TZID=UTC:20240509T190000
DTEND;TZID=UTC:20240509T210000
DTSTAMP:20260422T013546
CREATED:20240304T002919Z
LAST-MODIFIED:20240409T193633Z
UID:10000026-1715281200-1715288400@got-planz.website
SUMMARY:Trivia
DESCRIPTION:Sorry\, but you do not have permission to view this content.
URL:https://got-planz.website/event/trivia-auld-shabeen/
LOCATION:Gadsby’s Tavern Museum\, 134 North Royal Street\, Alexandria\, VA\, 22314\, United States
END:VEVENT
END:VCALENDAR