BEGIN:VCALENDAR
VERSION:2.0
PRODID:-//GOT PLANZ - ECPv6.5.1.6//NONSGML v1.0//EN
CALSCALE:GREGORIAN
METHOD:PUBLISH
X-ORIGINAL-URL:https://got-planz.website
X-WR-CALDESC:Events for GOT PLANZ
REFRESH-INTERVAL;VALUE=DURATION:PT1H
X-Robots-Tag:noindex
X-PUBLISHED-TTL:PT1H
BEGIN:VTIMEZONE
TZID:UTC
BEGIN:STANDARD
TZOFFSETFROM:+0000
TZOFFSETTO:+0000
TZNAME:UTC
DTSTART:20240101T000000
END:STANDARD
END:VTIMEZONE
BEGIN:VEVENT
DTSTART;TZID=UTC:20240426T090000
DTEND;TZID=UTC:20240426T210000
DTSTAMP:20260422T134416
CREATED:20240405T061449Z
LAST-MODIFIED:20240417T114925Z
UID:10000040-1714122000-1714165200@got-planz.website
SUMMARY:Handmade Exhibition
DESCRIPTION:Handmade Exhibition \, All basic stuff are made by hands and exhibit there.
URL:https://got-planz.website/event/handmade-exhibition/
LOCATION:AutoBahn\, 8251 Preston Court\, Jessup\, MD\, 20794\, United States
CATEGORIES:Arts and Crafts
END:VEVENT
END:VCALENDAR