BEGIN:VCALENDAR
VERSION:2.0
PRODID:-//GOT PLANZ - ECPv6.5.1.6//NONSGML v1.0//EN
CALSCALE:GREGORIAN
METHOD:PUBLISH
X-WR-CALNAME:GOT PLANZ
X-ORIGINAL-URL:https://got-planz.website
X-WR-CALDESC:Events for GOT PLANZ
REFRESH-INTERVAL;VALUE=DURATION:PT1H
X-Robots-Tag:noindex
X-PUBLISHED-TTL:PT1H
BEGIN:VTIMEZONE
TZID:UTC
BEGIN:STANDARD
TZOFFSETFROM:+0000
TZOFFSETTO:+0000
TZNAME:UTC
DTSTART:20240101T000000
END:STANDARD
END:VTIMEZONE
BEGIN:VEVENT
DTSTART;TZID=UTC:20240316T140000
DTEND;TZID=UTC:20240316T170000
DTSTAMP:20260422T121907
CREATED:20240222T222810Z
LAST-MODIFIED:20240304T003636Z
UID:10000020-1710597600-1710608400@got-planz.website
SUMMARY:Live Music
DESCRIPTION:
URL:https://got-planz.website/event/live-music-game-blouses/
LOCATION:VA
CATEGORIES:Live Music
END:VEVENT
END:VCALENDAR