BEGIN:VCALENDAR
VERSION:2.0
PRODID:-//GOT PLANZ - ECPv6.5.1.6//NONSGML v1.0//EN
CALSCALE:GREGORIAN
METHOD:PUBLISH
X-ORIGINAL-URL:https://got-planz.website
X-WR-CALDESC:Events for GOT PLANZ
REFRESH-INTERVAL;VALUE=DURATION:PT1H
X-Robots-Tag:noindex
X-PUBLISHED-TTL:PT1H
BEGIN:VTIMEZONE
TZID:UTC
BEGIN:STANDARD
TZOFFSETFROM:+0000
TZOFFSETTO:+0000
TZNAME:UTC
DTSTART:20240101T000000
END:STANDARD
END:VTIMEZONE
BEGIN:VEVENT
DTSTART;TZID=UTC:20240729T190000
DTEND;TZID=UTC:20240729T233000
DTSTAMP:20260422T164547
CREATED:20240125T075819Z
LAST-MODIFIED:20240715T142025Z
UID:10000014-1722279600-1722295800@got-planz.website
SUMMARY:Live Music
DESCRIPTION:Come and give Jeff a punch! This is going to be a real cool eveng!
URL:https://got-planz.website/event/live-music/
LOCATION:Outta The Way Cafe\, 17503 Redland Rd\, Derwood\, MD\, 20855\, United States
CATEGORIES:Live Music
END:VEVENT
BEGIN:VEVENT
DTSTART;TZID=UTC:20240802T000000
DTEND;TZID=UTC:20240802T235959
DTSTAMP:20260422T164547
CREATED:20240411T155330Z
LAST-MODIFIED:20240411T155806Z
UID:10000061-1722556800-1722643199@got-planz.website
SUMMARY:Live Music
DESCRIPTION:
URL:https://got-planz.website/event/live-music-2/2024-08-02/
CATEGORIES:Live Music
END:VEVENT
BEGIN:VEVENT
DTSTART;TZID=UTC:20240809T000000
DTEND;TZID=UTC:20240809T235959
DTSTAMP:20260422T164547
CREATED:20240411T155330Z
LAST-MODIFIED:20240411T155806Z
UID:10000062-1723161600-1723247999@got-planz.website
SUMMARY:Live Music
DESCRIPTION:
URL:https://got-planz.website/event/live-music-2/2024-08-09/
CATEGORIES:Live Music
END:VEVENT
BEGIN:VEVENT
DTSTART;TZID=UTC:20240816T000000
DTEND;TZID=UTC:20240816T235959
DTSTAMP:20260422T164547
CREATED:20240411T155330Z
LAST-MODIFIED:20240411T155806Z
UID:10000063-1723766400-1723852799@got-planz.website
SUMMARY:Live Music
DESCRIPTION:
URL:https://got-planz.website/event/live-music-2/2024-08-16/
CATEGORIES:Live Music
END:VEVENT
BEGIN:VEVENT
DTSTART;TZID=UTC:20240823T000000
DTEND;TZID=UTC:20240823T235959
DTSTAMP:20260422T164547
CREATED:20240411T155330Z
LAST-MODIFIED:20240411T155806Z
UID:10000064-1724371200-1724457599@got-planz.website
SUMMARY:Live Music
DESCRIPTION:
URL:https://got-planz.website/event/live-music-2/2024-08-23/
CATEGORIES:Live Music
END:VEVENT
END:VCALENDAR