BEGIN:VCALENDAR
VERSION:2.0
PRODID:-//GOT PLANZ - ECPv6.5.1.6//NONSGML v1.0//EN
CALSCALE:GREGORIAN
METHOD:PUBLISH
X-WR-CALNAME:GOT PLANZ
X-ORIGINAL-URL:https://got-planz.website
X-WR-CALDESC:Events for GOT PLANZ
REFRESH-INTERVAL;VALUE=DURATION:PT1H
X-Robots-Tag:noindex
X-PUBLISHED-TTL:PT1H
BEGIN:VTIMEZONE
TZID:UTC
BEGIN:STANDARD
TZOFFSETFROM:+0000
TZOFFSETTO:+0000
TZNAME:UTC
DTSTART:20240101T000000
END:STANDARD
END:VTIMEZONE
BEGIN:VEVENT
DTSTART;TZID=UTC:20240504T110000
DTEND;TZID=UTC:20240504T190000
DTSTAMP:20260424T143828
CREATED:20240409T080805Z
LAST-MODIFIED:20240416T200448Z
UID:10000044-1714820400-1714849200@got-planz.website
SUMMARY:Summer Chilling
DESCRIPTION:Summer Chilling event held on beach. Lets come and join us.
URL:https://got-planz.website/event/summer-chilling/
LOCATION:Herdon Rocks\, 777 Lynn St\, Herndon\, VA\, 20170\, United States
CATEGORIES:Barbeques and House Parties
ATTACH;FMTTYPE=image/webp:https://got-planz.website/wp-content/uploads/2024/01/banner-final-g.webp
END:VEVENT
BEGIN:VEVENT
DTSTART;TZID=UTC:20240505T090000
DTEND;TZID=UTC:20240512T140000
DTSTAMP:20260424T143828
CREATED:20240429T112619Z
LAST-MODIFIED:20240429T112619Z
UID:10000067-1714899600-1715522400@got-planz.website
SUMMARY:Summer Camp
DESCRIPTION:Summer camps enable children to develop confidence\, independence\, social skills\, leadership skills\, and physical fitness. Summer camp is a specially crafted program designed for children and teenagers during their summer vacation holidays as they come together and have fun while learning lifelong lessons.It generally involves various outdoor activities\, games\, sports\, music\, arts & crafts\, and educational programs among other activities that aim to impart new skills and foster personal growth in children. \nSummer camps are usually organised by schools\, churches\, community centers\, and other organisations.\nIt would not be wrong to say that summer camps are the best learning place for kids. Each camp has its unique features and activities that it offers. One important thing that every parent would want in their child is confidence and self-reliance that these camps impart in children up to a great extent.\nSummer camp is important for children in many ways including providing them with an opportunity to learn\, make mistakes\, evolve\, and develop new skills. Check out some benefits in this article below that why summer camp is essential for your child
URL:https://got-planz.website/event/summer-camp/
LOCATION:Outta The Way Cafe\, 17503 Redland Rd\, Derwood\, MD\, 20855\, United States
CATEGORIES:Holidays
END:VEVENT
BEGIN:VEVENT
DTSTART;TZID=UTC:20240507T183000
DTEND;TZID=UTC:20240507T210000
DTSTAMP:20260424T143828
CREATED:20240504T171120Z
LAST-MODIFIED:20240504T171120Z
UID:10000070-1715106600-1715115600@got-planz.website
SUMMARY:Paint Night
DESCRIPTION:CLASS DETAILS\nNothing beats catching the sunrise while being surrounded by nature. This is a fun and easy painting that will have everyone leaving happy. \nJoin us at Aslin Beer Company in Herndon to paint and sip the night away! \nPainting begins at 6:30pm\, Be sure to arrive early to grab a drink\, pizza\, or any offerings from Aslin IZZI’s menu! \nDrinks and food available for purchase on site.\n767 Elden St. Herndon VA 20170 \n*no refunds*
URL:https://got-planz.website/event/paint-night/
LOCATION:Aslin Brewery\, 767 Elden St.\, Herndon\, VA\, 20170\, United States
CATEGORIES:Arts and Crafts,Bars and Restaurants
END:VEVENT
BEGIN:VEVENT
DTSTART;TZID=UTC:20240509T190000
DTEND;TZID=UTC:20240509T210000
DTSTAMP:20260424T143828
CREATED:20240304T002919Z
LAST-MODIFIED:20240409T193633Z
UID:10000026-1715281200-1715288400@got-planz.website
SUMMARY:Trivia
DESCRIPTION:
URL:https://got-planz.website/event/trivia-auld-shabeen/
LOCATION:Gadsby’s Tavern Museum\, 134 North Royal Street\, Alexandria\, VA\, 22314\, United States
END:VEVENT
BEGIN:VEVENT
DTSTART;TZID=UTC:20240510T000000
DTEND;TZID=UTC:20240510T235959
DTSTAMP:20260424T143828
CREATED:20240411T155330Z
LAST-MODIFIED:20240411T155806Z
UID:10000049-1715299200-1715385599@got-planz.website
SUMMARY:Live Music
DESCRIPTION:
URL:https://got-planz.website/event/live-music-2/2024-05-10/
CATEGORIES:Live Music
END:VEVENT
BEGIN:VEVENT
DTSTART;TZID=UTC:20240510T190000
DTEND;TZID=UTC:20240510T200000
DTSTAMP:20260424T143828
CREATED:20240504T171624Z
LAST-MODIFIED:20240626T161912Z
UID:10000069-1715367600-1715371200@got-planz.website
SUMMARY:Zumba In The Park
DESCRIPTION:Join us for FREE Zumba in the Park. Shake it to the Latin rhythms of Zumba\, which features interval dance sessions that combine fast & slow rhythms to maximize fat burning. Learn the Tango\, Salsa\, Cumbia\, and Reggaeton while you experience an hour of body-energizing\, stress-relieving fun from 7 – 8 p.m. at the Concert Pavilion. All ages and levels are encouraged to attend.
URL:https://got-planz.website/event/zumba-in-the-park/
LOCATION:Gaithersburg Concert Pavillion\, 31 South Summit Avenue\, Gaithersburg\, MD\, 20877\, United States
CATEGORIES:Fitness and Team Building
END:VEVENT
BEGIN:VEVENT
DTSTART;TZID=UTC:20240517T000000
DTEND;TZID=UTC:20240517T235959
DTSTAMP:20260424T143828
CREATED:20240411T155330Z
LAST-MODIFIED:20240411T155806Z
UID:10000050-1715904000-1715990399@got-planz.website
SUMMARY:Live Music
DESCRIPTION:
URL:https://got-planz.website/event/live-music-2/2024-05-17/
CATEGORIES:Live Music
END:VEVENT
BEGIN:VEVENT
DTSTART;TZID=UTC:20240518T080000
DTEND;TZID=UTC:20240518T170000
DTSTAMP:20260424T143828
CREATED:20240416T203025Z
LAST-MODIFIED:20240416T204457Z
UID:10000065-1716019200-1716051600@got-planz.website
SUMMARY:Sailing Event
DESCRIPTION:
URL:https://got-planz.website/event/sailing-event/
CATEGORIES:Hiking and Outdoors
END:VEVENT
BEGIN:VEVENT
DTSTART;TZID=UTC:20240524T000000
DTEND;TZID=UTC:20240524T235959
DTSTAMP:20260424T143828
CREATED:20240411T155330Z
LAST-MODIFIED:20240411T155806Z
UID:10000051-1716508800-1716595199@got-planz.website
SUMMARY:Live Music
DESCRIPTION:
URL:https://got-planz.website/event/live-music-2/2024-05-24/
CATEGORIES:Live Music
END:VEVENT
BEGIN:VEVENT
DTSTART;TZID=UTC:20240531T000000
DTEND;TZID=UTC:20240531T235959
DTSTAMP:20260424T143828
CREATED:20240411T155330Z
LAST-MODIFIED:20240411T155806Z
UID:10000052-1717113600-1717199999@got-planz.website
SUMMARY:Live Music
DESCRIPTION:
URL:https://got-planz.website/event/live-music-2/2024-05-31/
CATEGORIES:Live Music
END:VEVENT
BEGIN:VEVENT
DTSTART;TZID=UTC:20240601T130000
DTEND;TZID=UTC:20240601T170000
DTSTAMP:20260424T143828
CREATED:20240504T172946Z
LAST-MODIFIED:20240504T172946Z
UID:10000071-1717246800-1717261200@got-planz.website
SUMMARY:Escape room
DESCRIPTION:
URL:https://got-planz.website/event/escape-room/
LOCATION:Escapology\, 230 American Way\, National Harbor\, MD\, 20745\, United States
CATEGORIES:Escape Room
END:VEVENT
BEGIN:VEVENT
DTSTART;TZID=UTC:20240603T080000
DTEND;TZID=UTC:20240603T170000
DTSTAMP:20260424T143828
CREATED:20240531T102108Z
LAST-MODIFIED:20240531T102108Z
UID:10000072-1717401600-1717434000@got-planz.website
SUMMARY:Crazy Night at Malabar
DESCRIPTION:This would be really nice event\, promise you would be having a good quality time. There is a nice location and DJ party. \nFree unlimited drinks for everyone. \nThanks\, see you there!
URL:https://got-planz.website/event/crazy-night-at-malabar/
END:VEVENT
BEGIN:VEVENT
DTSTART;TZID=UTC:20240607T000000
DTEND;TZID=UTC:20240607T235959
DTSTAMP:20260424T143828
CREATED:20240411T155330Z
LAST-MODIFIED:20240411T155806Z
UID:10000053-1717718400-1717804799@got-planz.website
SUMMARY:Live Music
DESCRIPTION:
URL:https://got-planz.website/event/live-music-2/2024-06-07/
CATEGORIES:Live Music
END:VEVENT
BEGIN:VEVENT
DTSTART;TZID=UTC:20240614T000000
DTEND;TZID=UTC:20240614T235959
DTSTAMP:20260424T143828
CREATED:20240411T155330Z
LAST-MODIFIED:20240411T155806Z
UID:10000054-1718323200-1718409599@got-planz.website
SUMMARY:Live Music
DESCRIPTION:
URL:https://got-planz.website/event/live-music-2/2024-06-14/
CATEGORIES:Live Music
END:VEVENT
BEGIN:VEVENT
DTSTART;TZID=UTC:20240615T110000
DTEND;TZID=UTC:20240615T170000
DTSTAMP:20260424T143828
CREATED:20240430T144324Z
LAST-MODIFIED:20240430T144324Z
UID:10000068-1718449200-1718470800@got-planz.website
SUMMARY:Holi Festival
DESCRIPTION:Not your ordinary day!\nA playful festival to strengthen friends and families with happiness.  \nHoli\, also known as the festival of colors\, has its roots in ancient India and the practice of bhakti yoga. Krishna\, the Sanskrit name for God\, loves to have fun with his friends and family. He plays Holi\, throwing colored powders\, laughing through His mischievous ways. This festival is a chance for us to do the same\, have a day full of laughter and lightheartedness. We host it to create a space for families and friends to reconnect in playfully fun and memorable ways.
URL:https://got-planz.website/event/holi-festival/
CATEGORIES:Arts and Crafts
END:VEVENT
BEGIN:VEVENT
DTSTART;TZID=UTC:20240621T000000
DTEND;TZID=UTC:20240621T235959
DTSTAMP:20260424T143828
CREATED:20240411T155330Z
LAST-MODIFIED:20240411T155806Z
UID:10000055-1718928000-1719014399@got-planz.website
SUMMARY:Live Music
DESCRIPTION:
URL:https://got-planz.website/event/live-music-2/2024-06-21/
CATEGORIES:Live Music
END:VEVENT
BEGIN:VEVENT
DTSTART;TZID=UTC:20240628T000000
DTEND;TZID=UTC:20240628T235959
DTSTAMP:20260424T143828
CREATED:20240411T155330Z
LAST-MODIFIED:20240411T155806Z
UID:10000056-1719532800-1719619199@got-planz.website
SUMMARY:Live Music
DESCRIPTION:
URL:https://got-planz.website/event/live-music-2/2024-06-28/
CATEGORIES:Live Music
END:VEVENT
BEGIN:VEVENT
DTSTART;TZID=UTC:20240705T000000
DTEND;TZID=UTC:20240705T235959
DTSTAMP:20260424T143828
CREATED:20240411T155330Z
LAST-MODIFIED:20240411T155806Z
UID:10000057-1720137600-1720223999@got-planz.website
SUMMARY:Live Music
DESCRIPTION:
URL:https://got-planz.website/event/live-music-2/2024-07-05/
CATEGORIES:Live Music
END:VEVENT
BEGIN:VEVENT
DTSTART;TZID=UTC:20240711T140000
DTEND;TZID=UTC:20240711T200000
DTSTAMP:20260424T143828
CREATED:20240710T102805Z
LAST-MODIFIED:20240710T102805Z
UID:10000075-1720706400-1720728000@got-planz.website
SUMMARY:Shri Nityaa Rakhi Exhibition
DESCRIPTION:
URL:https://got-planz.website/event/shri-nityaa-rakhi-exhibition/
LOCATION:Gaithersburg Concert Pavillion\, 31 South Summit Avenue\, Gaithersburg\, MD\, 20877\, United States
ORGANIZER;CN="Aashita Darda":MAILTO:aashitadarda@gmail.com
END:VEVENT
BEGIN:VEVENT
DTSTART;TZID=UTC:20240712T000000
DTEND;TZID=UTC:20240712T235959
DTSTAMP:20260424T143828
CREATED:20240411T155330Z
LAST-MODIFIED:20240411T155806Z
UID:10000058-1720742400-1720828799@got-planz.website
SUMMARY:Live Music
DESCRIPTION:
URL:https://got-planz.website/event/live-music-2/2024-07-12/
CATEGORIES:Live Music
END:VEVENT
BEGIN:VEVENT
DTSTART;TZID=UTC:20240712T200000
DTEND;TZID=UTC:20240712T233000
DTSTAMP:20260424T143828
CREATED:20240710T101948Z
LAST-MODIFIED:20240710T102332Z
UID:10000074-1720814400-1720827000@got-planz.website
SUMMARY:Anyasa Event
DESCRIPTION:About Anyasa\nAnyasa is an Indian melodic house and techno artist signed to the globally renowed British deep house label Anjunadeep. \nHis consistency as one of the most proficient producers in the industry is clear from the beautiful balance he has attained between classical Indian sounds and modern electronica. \nThis distinctive style has found global acceptance with his very successful Gaya\, Athena and Apollo EPs along with key performances at iconic global venues such as Printworks in London\, Brooklyn Mirage in New York\, Expo 2020 in Dubai\, DGTL in Mumbai and more.\nShow More\nGenres: Deep House\, Melodic House & Techno\nHometown: Goa\, India
URL:https://got-planz.website/event/anyasa-event/
LOCATION:Aslin Brewery\, 767 Elden St.\, Herndon\, VA\, 20170\, United States
CATEGORIES:Live Music
ORGANIZER;CN="Aashita Darda":MAILTO:aashitadarda@gmail.com
END:VEVENT
BEGIN:VEVENT
DTSTART;TZID=UTC:20240719T000000
DTEND;TZID=UTC:20240719T235959
DTSTAMP:20260424T143828
CREATED:20240411T155330Z
LAST-MODIFIED:20240411T155806Z
UID:10000059-1721347200-1721433599@got-planz.website
SUMMARY:Live Music
DESCRIPTION:
URL:https://got-planz.website/event/live-music-2/2024-07-19/
CATEGORIES:Live Music
END:VEVENT
BEGIN:VEVENT
DTSTART;TZID=UTC:20240722T090000
DTEND;TZID=UTC:20240722T200000
DTSTAMP:20260424T143828
CREATED:20240704T062808Z
LAST-MODIFIED:20240715T072237Z
UID:10000073-1721638800-1721678400@got-planz.website
SUMMARY:Test Event 15-July-2024
DESCRIPTION:Etiam semper\, nunc vitae volutpat efficitur\, elit nibh egestas velit\, amet euismod justo justo pharetra ipsum. Mauris tincidunt magna\, ut fringilla erat ultrices et. Class aptent taciti sociosqu ad litora torquent per conubia nostra\, per inceptos himenaeos. Donec a metus eget libero efficitur tempor. Mauris bibendum mi leo\, at pulvinar leo cursus congue. \nAenean tristique metus diam\, id mollis magna efficitur nec. Sed enenatis arcu nisl\, ac pharetra felis vestibulum vitae. Aenean sit amet pharetra eros\, et condimentum tortor. Class aptent taciti sociosqu ad litora torquent per conubia nostra\, per inceptos himenaeos. Aenean a dolor turpis.
URL:https://got-planz.website/event/test-event-15-july-2024/
LOCATION:Gaithersburg Concert Pavillion\, 31 South Summit Avenue\, Gaithersburg\, MD\, 20877\, United States
CATEGORIES:Arts and Crafts
ATTACH;FMTTYPE=image/jpeg:https://got-planz.website/wp-content/uploads/2024/03/download-3.jpeg
END:VEVENT
BEGIN:VEVENT
DTSTART;TZID=UTC:20240722T193000
DTEND;TZID=UTC:20240728T220000
DTSTAMP:20260424T143828
CREATED:20240718T115839Z
LAST-MODIFIED:20240723T205350Z
UID:10000078-1721676600-1722204000@got-planz.website
SUMMARY:Stars Night
DESCRIPTION:
URL:https://got-planz.website/event/stars-night/
ATTACH;FMTTYPE=image/jpeg:https://got-planz.website/wp-content/uploads/2024/03/Cocktails.jpeg
ORGANIZER;CN="Jeff Caine":MAILTO:jjcaine89@gmail.com
END:VEVENT
BEGIN:VEVENT
DTSTART;TZID=UTC:20240724T170000
DTEND;TZID=UTC:20240724T190000
DTSTAMP:20260424T143828
CREATED:20240718T191900Z
LAST-MODIFIED:20240718T191900Z
UID:10000079-1721840400-1721847600@got-planz.website
SUMMARY:Bowling Alley
DESCRIPTION:Come bowl with us and have some food and fun.
URL:https://got-planz.website/event/bowling-alley/
LOCATION:AutoBahn\, 8251 Preston Court\, Jessup\, MD\, 20794\, United States
ATTACH;FMTTYPE=image/jpeg:https://got-planz.website/wp-content/uploads/2024/03/Cocktails.jpeg
END:VEVENT
BEGIN:VEVENT
DTSTART;TZID=UTC:20240725T080000
DTEND;TZID=UTC:20240725T170000
DTSTAMP:20260424T143828
CREATED:20240716T135400Z
LAST-MODIFIED:20240716T135804Z
UID:10000077-1721894400-1721926800@got-planz.website
SUMMARY:Event Test July 25
DESCRIPTION:Testing content Testing content Testing contentTesting content \nTesting content \nTesting content \nTesting content \nTesting content
URL:https://got-planz.website/event/event-test-july-25/
CATEGORIES:Cultural Events
ORGANIZER;CN="Aashita Darda":MAILTO:aashitadarda@gmail.com
END:VEVENT
BEGIN:VEVENT
DTSTART;TZID=UTC:20240726T000000
DTEND;TZID=UTC:20240726T235959
DTSTAMP:20260424T143828
CREATED:20240411T155330Z
LAST-MODIFIED:20240411T155806Z
UID:10000060-1721952000-1722038399@got-planz.website
SUMMARY:Live Music
DESCRIPTION:
URL:https://got-planz.website/event/live-music-2/2024-07-26/
CATEGORIES:Live Music
END:VEVENT
BEGIN:VEVENT
DTSTART;TZID=UTC:20240727T170000
DTEND;TZID=UTC:20240727T223000
DTSTAMP:20260424T143828
CREATED:20240710T103237Z
LAST-MODIFIED:20240710T103237Z
UID:10000076-1722099600-1722119400@got-planz.website
SUMMARY:Opera Concert
DESCRIPTION:Opera ConcertOpera ConcertOpera ConcertOpera ConcertOpera ConcertOpera ConcertOpera ConcertOpera ConcertOpera ConcertOpera ConcertOpera ConcertOpera ConcertOpera ConcertOpera ConcertOpera ConcertOpera ConcertOpera ConcertOpera ConcertOpera ConcertOpera ConcertOpera ConcertOpera ConcertOpera ConcertOpera ConcertOpera ConcertOpera ConcertOpera ConcertOpera ConcertOpera ConcertOpera ConcertOpera ConcertOpera ConcertOpera ConcertOpera ConcertOpera ConcertOpera ConcertOpera Concert
URL:https://got-planz.website/event/opera-concert/
LOCATION:Jimmy’s Old Town Tavern\, 697 Spring St\, Herndon\, VA\, 20170\, United States
CATEGORIES:Live Music,Music Bingo
ORGANIZER;CN="Aashita Darda":MAILTO:aashitadarda@gmail.com
END:VEVENT
BEGIN:VEVENT
DTSTART;TZID=UTC:20240729T190000
DTEND;TZID=UTC:20240729T233000
DTSTAMP:20260424T143828
CREATED:20240125T075819Z
LAST-MODIFIED:20240715T142025Z
UID:10000014-1722279600-1722295800@got-planz.website
SUMMARY:Live Music
DESCRIPTION:Come and give Jeff a punch! This is going to be a real cool eveng!
URL:https://got-planz.website/event/live-music/
LOCATION:Outta The Way Cafe\, 17503 Redland Rd\, Derwood\, MD\, 20855\, United States
CATEGORIES:Live Music
END:VEVENT
BEGIN:VEVENT
DTSTART;TZID=UTC:20240802T000000
DTEND;TZID=UTC:20240802T235959
DTSTAMP:20260424T143828
CREATED:20240411T155330Z
LAST-MODIFIED:20240411T155806Z
UID:10000061-1722556800-1722643199@got-planz.website
SUMMARY:Live Music
DESCRIPTION:
URL:https://got-planz.website/event/live-music-2/2024-08-02/
CATEGORIES:Live Music
END:VEVENT
END:VCALENDAR