BEGIN:VCALENDAR
VERSION:2.0
PRODID:-//GOT PLANZ - ECPv6.5.1.6//NONSGML v1.0//EN
CALSCALE:GREGORIAN
METHOD:PUBLISH
X-WR-CALNAME:GOT PLANZ
X-ORIGINAL-URL:https://got-planz.website
X-WR-CALDESC:Events for GOT PLANZ
REFRESH-INTERVAL;VALUE=DURATION:PT1H
X-Robots-Tag:noindex
X-PUBLISHED-TTL:PT1H
BEGIN:VTIMEZONE
TZID:UTC
BEGIN:STANDARD
TZOFFSETFROM:+0000
TZOFFSETTO:+0000
TZNAME:UTC
DTSTART:20240101T000000
END:STANDARD
END:VTIMEZONE
BEGIN:VEVENT
DTSTART;TZID=UTC:20240401T160000
DTEND;TZID=UTC:20240401T180000
DTSTAMP:20260422T013546
CREATED:20240324T130804Z
LAST-MODIFIED:20240324T130804Z
UID:10000038-1711987200-1711994400@got-planz.website
SUMMARY:Indoor Go Cart and Axe Throwing
DESCRIPTION:Sorry\, but you do not have permission to view this content.
URL:https://got-planz.website/event/indoor-go-cart-and-axe-throwing/
LOCATION:AutoBahn\, 8251 Preston Court\, Jessup\, MD\, 20794\, United States
END:VEVENT
BEGIN:VEVENT
DTSTART;TZID=UTC:20240403T190000
DTEND;TZID=UTC:20240403T220000
DTSTAMP:20260422T013546
CREATED:20240403T215818Z
LAST-MODIFIED:20240403T220420Z
UID:10000039-1712170800-1712181600@got-planz.website
SUMMARY:Music Bingo
DESCRIPTION:Sorry\, but you do not have permission to view this content.
URL:https://got-planz.website/event/music-bingo-5/
LOCATION:Outta The Way Cafe\, 17503 Redland Rd\, Derwood\, MD\, 20855\, United States
CATEGORIES:Music Bingo
END:VEVENT
BEGIN:VEVENT
DTSTART;TZID=UTC:20240405T193000
DTEND;TZID=UTC:20240405T230000
DTSTAMP:20260422T013546
CREATED:20240222T213612Z
LAST-MODIFIED:20240322T175659Z
UID:10000019-1712345400-1712358000@got-planz.website
SUMMARY:Open Mic Night
DESCRIPTION:Sorry\, but you do not have permission to view this content.
URL:https://got-planz.website/event/free-night-at-dc-improve/
LOCATION:Herdon Rocks\, 777 Lynn St\, Herndon\, VA\, 20170\, United States
CATEGORIES:Open Mic Night
ATTACH;FMTTYPE=image/png:https://got-planz.website/wp-content/uploads/2023/12/Untitled-17.png
END:VEVENT
BEGIN:VEVENT
DTSTART;TZID=UTC:20240407T010000
DTEND;TZID=UTC:20240407T043000
DTSTAMP:20260422T013546
CREATED:20240304T002746Z
LAST-MODIFIED:20240319T153828Z
UID:10000025-1712451600-1712464200@got-planz.website
SUMMARY:Watch F1 Race at Bar
DESCRIPTION:Sorry\, but you do not have permission to view this content.
URL:https://got-planz.website/event/watch-f1-race-at-bar/
LOCATION:Herdon Rocks\, 777 Lynn St\, Herndon\, VA\, 20170\, United States
END:VEVENT
BEGIN:VEVENT
DTSTART;TZID=UTC:20240412T000000
DTEND;TZID=UTC:20240412T235959
DTSTAMP:20260422T013546
CREATED:20240409T121008Z
LAST-MODIFIED:20240409T194439Z
UID:10000045-1712880000-1712966399@got-planz.website
SUMMARY:Winter fun
DESCRIPTION:Sorry\, but you do not have permission to view this content.
URL:https://got-planz.website/event/winter-fun/
LOCATION:Gadsby’s Tavern Museum\, 134 North Royal Street\, Alexandria\, VA\, 22314\, United States
ATTACH;FMTTYPE=image/jpeg:https://got-planz.website/wp-content/uploads/2024/03/WhatsApp-Image-2024-03-03-at-12.03.11_e5556102-e1709486236439.jpg
END:VEVENT
BEGIN:VEVENT
DTSTART;TZID=UTC:20240426T000000
DTEND;TZID=UTC:20240428T235959
DTSTAMP:20260422T013546
CREATED:20240405T144010Z
LAST-MODIFIED:20240419T080713Z
UID:10000043-1714089600-1714348799@got-planz.website
SUMMARY:Summer Chill
DESCRIPTION:Sorry\, but you do not have permission to view this content.
URL:https://got-planz.website/event/summer-chill/
LOCATION:Jimmy’s Old Town Tavern\, 697 Spring St\, Herndon\, VA\, 20170\, United States
CATEGORIES:Cultural Events
ATTACH;FMTTYPE=image/jpeg:https://got-planz.website/wp-content/uploads/2024/03/Cocktails.jpeg
END:VEVENT
BEGIN:VEVENT
DTSTART;TZID=UTC:20240426T090000
DTEND;TZID=UTC:20240426T210000
DTSTAMP:20260422T013546
CREATED:20240405T061449Z
LAST-MODIFIED:20240417T114925Z
UID:10000040-1714122000-1714165200@got-planz.website
SUMMARY:Handmade Exhibition
DESCRIPTION:Sorry\, but you do not have permission to view this content.
URL:https://got-planz.website/event/handmade-exhibition/
LOCATION:AutoBahn\, 8251 Preston Court\, Jessup\, MD\, 20794\, United States
CATEGORIES:Arts and Crafts
END:VEVENT
BEGIN:VEVENT
DTSTART;TZID=UTC:20240430T080000
DTEND;TZID=UTC:20240430T170000
DTSTAMP:20260422T013546
CREATED:20240409T153602Z
LAST-MODIFIED:20240409T193003Z
UID:10000046-1714464000-1714496400@got-planz.website
SUMMARY:Happy hour
DESCRIPTION:Sorry\, but you do not have permission to view this content.
URL:https://got-planz.website/event/happy-hour/
LOCATION:The Irish Whisper\, 177 Fleet St\, Oxon Hill\, MD\, 20745\, United States
CATEGORIES:Bars and Restaurants
END:VEVENT
END:VCALENDAR